BEGIN:VCALENDAR
VERSION:2.0
PRODID:-//178.249.155.143//NONSGML kigkonsult.se iCalcreator 2.20//
CALSCALE:GREGORIAN
METHOD:PUBLISH
X-WR-TIMEZONE:Europe/Amsterdam
BEGIN:VEVENT
UID:event172@Duikbuddygezocht.nl
DTSTAMP:20260422T125822Z
CATEGORIES:Duikbuddygezocht.nl
DESCRIPTION:Wrak de Kiekuut \nCategorie: Duikbuddygezocht.nl\nLink: https:/
 /duikbuddygezocht.nl/index.php?option=com_jem&view=event&id=172:wrak-de-ki
 ekuut\n
DTSTART;TZID=Europe/Amsterdam:20250626T190000
DTEND;TZID=Europe/Amsterdam:20250626T213000
LOCATION:Duikwrak De kiekuut\,Bungelaar 4\,5437PM Beers
SUMMARY:Wrak de Kiekuut 
URL:https://duikbuddygezocht.nl/index.php?option=com_jem&view=event&id=172:
 wrak-de-kiekuut
END:VEVENT
END:VCALENDAR