BEGIN:VCALENDAR
VERSION:2.0
PRODID:-//178.249.155.143//NONSGML kigkonsult.se iCalcreator 2.20//
CALSCALE:GREGORIAN
METHOD:PUBLISH
X-WR-TIMEZONE:Europe/Amsterdam
BEGIN:VEVENT
UID:event182@Duikbuddygezocht.nl
DTSTAMP:20260422T185318Z
CATEGORIES:Duikbuddygezocht.nl
DESCRIPTION:Heeswijkse kampen - Kraaijenbergseplas 9\nCategorie: Duikbuddyg
 ezocht.nl\nLink: https://duikbuddygezocht.nl/index.php?option=com_jem&view
 =event&id=182:heeswijkse-kampen-kraaijenbergseplas-9\n
DTSTART;TZID=Europe/Amsterdam:20250720T090000
DTEND;TZID=Europe/Amsterdam:20250720T123000
LOCATION:Kraaijenbergseplas 9 - Heeswijkse kampen\,Havenlaan 1\,5433 NK Kat
 wijk
SUMMARY:Heeswijkse kampen - Kraaijenbergseplas 9
URL:https://duikbuddygezocht.nl/index.php?option=com_jem&view=event&id=182:
 heeswijkse-kampen-kraaijenbergseplas-9
END:VEVENT
END:VCALENDAR