BEGIN:VCALENDAR
VERSION:2.0
PRODID:-//178.249.155.143//NONSGML kigkonsult.se iCalcreator 2.20//
CALSCALE:GREGORIAN
METHOD:PUBLISH
X-WR-TIMEZONE:Europe/Amsterdam
BEGIN:VEVENT
UID:event217@Duikbuddygezocht.nl
DTSTAMP:20260423T133223Z
CATEGORIES:Duikbuddygezocht.nl
DESCRIPTION:Standaard evenement\nCategorie: Duikbuddygezocht.nl\nLink: http
 s://duikbuddygezocht.nl/index.php?option=com_jem&view=event&id=217:standaa
 rd-evenement\n
DTSTART;TZID=Europe/Amsterdam:20250815T090000
DTEND;TZID=Europe/Amsterdam:20250815T123000
LOCATION:Nionplas\,Oosterhoutseweg 20\,4941 WZ Raamsdonkveer
SUMMARY:Standaard evenement
URL:https://duikbuddygezocht.nl/index.php?option=com_jem&view=event&id=217:
 standaard-evenement
END:VEVENT
END:VCALENDAR