BEGIN:VCALENDAR
VERSION:2.0
PRODID:-//178.249.155.143//NONSGML kigkonsult.se iCalcreator 2.20//
CALSCALE:GREGORIAN
METHOD:PUBLISH
X-WR-TIMEZONE:Europe/Amsterdam
BEGIN:VEVENT
UID:event243@Duikbuddygezocht.nl
DTSTAMP:20260419T134400Z
CATEGORIES:Duikbuddygezocht.nl
DESCRIPTION:De Beldert\nCategorie: Duikbuddygezocht.nl\nLink: https://duikb
 uddygezocht.nl/index.php?option=com_jem&view=event&id=243:de-beldert\n
DTSTART;TZID=Europe/Amsterdam:20250921T090000
DTEND;TZID=Europe/Amsterdam:20250921T113000
LOCATION:Beldert\,Zoelense Zandweg 1\,4011 LW Zoelen
SUMMARY:De Beldert
URL:https://duikbuddygezocht.nl/index.php?option=com_jem&view=event&id=243:
 de-beldert
END:VEVENT
END:VCALENDAR