BEGIN:VCALENDAR
VERSION:2.0
PRODID:-//178.249.155.143//NONSGML kigkonsult.se iCalcreator 2.20//
CALSCALE:GREGORIAN
METHOD:PUBLISH
X-WR-TIMEZONE:Europe/Amsterdam
BEGIN:VEVENT
UID:event376@Duikbuddygezocht.nl
DTSTAMP:20260419T122415Z
CATEGORIES:Duikbuddygezocht.nl
DESCRIPTION:Witte Brug (surfstrand)\nCategorie: Duikbuddygezocht.nl\nLink: 
 https://duikbuddygezocht.nl/index.php?option=com_jem&view=event&id=376:wit
 te-brug-surfstrand\n
DTSTART;TZID=Europe/Amsterdam:20260305T200000
DTEND;TZID=Europe/Amsterdam:20260305T222900
LOCATION:Kraaijenbergseplas 7 - witte brug west\,steegstraat\,5439 NL Linde
 n
SUMMARY:Witte Brug (surfstrand)
URL:https://duikbuddygezocht.nl/index.php?option=com_jem&view=event&id=376:
 witte-brug-surfstrand
END:VEVENT
END:VCALENDAR