BEGIN:VCALENDAR
VERSION:2.0
PRODID:-//178.249.155.143//NONSGML kigkonsult.se iCalcreator 2.20//
CALSCALE:GREGORIAN
METHOD:PUBLISH
X-WR-TIMEZONE:Europe/Amsterdam
BEGIN:VEVENT
UID:event414@Duikbuddygezocht.nl
DTSTAMP:20260419T225954Z
CATEGORIES:Duikbuddygezocht.nl
DESCRIPTION:Lithse ham avondduikje\nCategorie: Duikbuddygezocht.nl\nLink: h
 ttps://duikbuddygezocht.nl/index.php?option=com_jem&view=event&id=414:lith
 se-ham-avondduikje\n
DTSTART;TZID=Europe/Amsterdam:20260508T190000
DTEND;TZID=Europe/Amsterdam:20260508T223000
LOCATION:Lithse Ham\,De Lithse Ham 4\,5397 GL  Lith
SUMMARY:Lithse ham avondduikje
URL:https://duikbuddygezocht.nl/index.php?option=com_jem&view=event&id=414:
 lithse-ham-avondduikje
END:VEVENT
END:VCALENDAR