BEGIN:VCALENDAR
VERSION:2.0
PRODID:-//178.249.155.143//NONSGML kigkonsult.se iCalcreator 2.20//
CALSCALE:GREGORIAN
METHOD:PUBLISH
X-WR-TIMEZONE:Europe/Amsterdam
BEGIN:VEVENT
UID:event417@Duikbuddygezocht.nl
DTSTAMP:20260420T023957Z
CATEGORIES:Duikbuddygezocht.nl
DESCRIPTION:Rosmalense plas / Empel - Vissteiger\nCategorie: Duikbuddygezoc
 ht.nl\nLink: https://duikbuddygezocht.nl/index.php?option=com_jem&view=eve
 nt&id=417:rosmalense-plas-empel-vissteiger\n
DTSTART;TZID=Europe/Amsterdam:20260426T100000
DTEND;TZID=Europe/Amsterdam:20260426T123000
LOCATION:Rosmalense Plas vissteiger\,Empelseweg\,5241NA Rosmalen
SUMMARY:Rosmalense plas / Empel - Vissteiger
URL:https://duikbuddygezocht.nl/index.php?option=com_jem&view=event&id=417:
 rosmalense-plas-empel-vissteiger
END:VEVENT
END:VCALENDAR