BEGIN:VCALENDAR
VERSION:2.0
PRODID:-//178.249.155.143//NONSGML kigkonsult.se iCalcreator 2.20//
CALSCALE:GREGORIAN
METHOD:PUBLISH
X-WR-TIMEZONE:Europe/Amsterdam
BEGIN:VEVENT
UID:event420@Duikbuddygezocht.nl
DTSTAMP:20260422T063532Z
CATEGORIES:Duikbuddygezocht.nl\, Uitgelicht
DESCRIPTION:Toolenburgerplas\nCategorie: Duikbuddygezocht.nl\, Uitgelicht\n
 Link: https://duikbuddygezocht.nl/index.php?option=com_jem&view=event&id=4
 20:toolenburgerplas\n
DTSTART;TZID=Europe/Amsterdam:20260426T090500
DTEND;TZID=Europe/Amsterdam:20260426T113000
LOCATION:Toolenburgerplas\,Ijweg 1270\,2133 MJ  Hoofddorp
SUMMARY:Toolenburgerplas
URL:https://duikbuddygezocht.nl/index.php?option=com_jem&view=event&id=420:
 toolenburgerplas
END:VEVENT
END:VCALENDAR