BEGIN:VCALENDAR
VERSION:2.0
PRODID:-//178.249.155.143//NONSGML kigkonsult.se iCalcreator 2.20//
CALSCALE:GREGORIAN
METHOD:PUBLISH
X-WR-TIMEZONE:Europe/Amsterdam
BEGIN:VEVENT
UID:event424@Duikbuddygezocht.nl
DTSTAMP:20260423T041647Z
CATEGORIES:Duikbuddygezocht.nl
DESCRIPTION:Lithse Ham \nCategorie: Duikbuddygezocht.nl\nLink: https://duik
 buddygezocht.nl/index.php?option=com_jem&view=event&id=424:lithse-ham\n
DTSTART;TZID=Europe/Amsterdam:20260427T090000
DTEND;TZID=Europe/Amsterdam:20260427T113000
LOCATION:Lithse Ham\,De Lithse Ham 4\,5397 GL  Lith
SUMMARY:Lithse Ham 
URL:https://duikbuddygezocht.nl/index.php?option=com_jem&view=event&id=424:
 lithse-ham
END:VEVENT
END:VCALENDAR